BEGIN:VCALENDAR
VERSION:2.0
PRODID:-//Légumes en Ville - ECPv6.15.17//NONSGML v1.0//EN
CALSCALE:GREGORIAN
METHOD:PUBLISH
X-WR-CALNAME:Légumes en Ville
X-ORIGINAL-URL:https://legumesenville.ch
X-WR-CALDESC:Évènements pour Légumes en Ville
REFRESH-INTERVAL;VALUE=DURATION:PT1H
X-Robots-Tag:noindex
X-PUBLISHED-TTL:PT1H
BEGIN:VTIMEZONE
TZID:Europe/Paris
BEGIN:DAYLIGHT
TZOFFSETFROM:+0100
TZOFFSETTO:+0200
TZNAME:CEST
DTSTART:20230326T010000
END:DAYLIGHT
BEGIN:STANDARD
TZOFFSETFROM:+0200
TZOFFSETTO:+0100
TZNAME:CET
DTSTART:20231029T010000
END:STANDARD
BEGIN:DAYLIGHT
TZOFFSETFROM:+0100
TZOFFSETTO:+0200
TZNAME:CEST
DTSTART:20240331T010000
END:DAYLIGHT
BEGIN:STANDARD
TZOFFSETFROM:+0200
TZOFFSETTO:+0100
TZNAME:CET
DTSTART:20241027T010000
END:STANDARD
BEGIN:DAYLIGHT
TZOFFSETFROM:+0100
TZOFFSETTO:+0200
TZNAME:CEST
DTSTART:20250330T010000
END:DAYLIGHT
BEGIN:STANDARD
TZOFFSETFROM:+0200
TZOFFSETTO:+0100
TZNAME:CET
DTSTART:20251026T010000
END:STANDARD
END:VTIMEZONE
BEGIN:VEVENT
DTSTART;TZID=Europe/Paris:20240108T090000
DTEND;TZID=Europe/Paris:20240108T113000
DTSTAMP:20260423T062233
CREATED:20231018T061136Z
LAST-MODIFIED:20231018T101252Z
UID:10005080-1704704400-1704713400@legumesenville.ch
SUMMARY:Visite à Perly - 1
DESCRIPTION:
URL:https://legumesenville.ch/event/visite-a-perly-2/2024-01-08/
LOCATION:Union Maraîchère de Genève\, Perly\, route de Base 45\, Perly\, Suisse
CATEGORIES:Visites à Perly
ORGANIZER;CN="L%C3%A9gumes en ville":MAILTO:info@legumesenville.ch
END:VEVENT
BEGIN:VEVENT
DTSTART;TZID=Europe/Paris:20240108T090000
DTEND;TZID=Europe/Paris:20240108T113000
DTSTAMP:20260423T062233
CREATED:20231018T094528Z
LAST-MODIFIED:20231018T101331Z
UID:10005169-1704704400-1704713400@legumesenville.ch
SUMMARY:Visite à Perly - 2
DESCRIPTION:
URL:https://legumesenville.ch/event/visite-a-perly-2-3/2024-01-08/
LOCATION:Union Maraîchère de Genève\, Perly\, route de Base 45\, Perly\, Suisse
CATEGORIES:Visites à Perly
ORGANIZER;CN="L%C3%A9gumes en ville":MAILTO:info@legumesenville.ch
END:VEVENT
BEGIN:VEVENT
DTSTART;TZID=Europe/Paris:20240109T090000
DTEND;TZID=Europe/Paris:20240109T113000
DTSTAMP:20260423T062233
CREATED:20231018T061136Z
LAST-MODIFIED:20231018T101252Z
UID:10005081-1704790800-1704799800@legumesenville.ch
SUMMARY:Visite à Perly - 1
DESCRIPTION:
URL:https://legumesenville.ch/event/visite-a-perly-2/2024-01-09/
LOCATION:Union Maraîchère de Genève\, Perly\, route de Base 45\, Perly\, Suisse
CATEGORIES:Visites à Perly
ORGANIZER;CN="L%C3%A9gumes en ville":MAILTO:info@legumesenville.ch
END:VEVENT
BEGIN:VEVENT
DTSTART;TZID=Europe/Paris:20240109T090000
DTEND;TZID=Europe/Paris:20240109T113000
DTSTAMP:20260423T062233
CREATED:20231018T094528Z
LAST-MODIFIED:20231018T101331Z
UID:10005170-1704790800-1704799800@legumesenville.ch
SUMMARY:Visite à Perly - 2
DESCRIPTION:
URL:https://legumesenville.ch/event/visite-a-perly-2-3/2024-01-09/
LOCATION:Union Maraîchère de Genève\, Perly\, route de Base 45\, Perly\, Suisse
CATEGORIES:Visites à Perly
ORGANIZER;CN="L%C3%A9gumes en ville":MAILTO:info@legumesenville.ch
END:VEVENT
BEGIN:VEVENT
DTSTART;TZID=Europe/Paris:20240110T090000
DTEND;TZID=Europe/Paris:20240110T113000
DTSTAMP:20260423T062233
CREATED:20231018T061136Z
LAST-MODIFIED:20231018T101252Z
UID:10005082-1704877200-1704886200@legumesenville.ch
SUMMARY:Visite à Perly - 1
DESCRIPTION:
URL:https://legumesenville.ch/event/visite-a-perly-2/2024-01-10/
LOCATION:Union Maraîchère de Genève\, Perly\, route de Base 45\, Perly\, Suisse
CATEGORIES:Visites à Perly
ORGANIZER;CN="L%C3%A9gumes en ville":MAILTO:info@legumesenville.ch
END:VEVENT
BEGIN:VEVENT
DTSTART;TZID=Europe/Paris:20240110T090000
DTEND;TZID=Europe/Paris:20240110T113000
DTSTAMP:20260423T062233
CREATED:20231018T094528Z
LAST-MODIFIED:20231018T101331Z
UID:10005171-1704877200-1704886200@legumesenville.ch
SUMMARY:Visite à Perly - 2
DESCRIPTION:
URL:https://legumesenville.ch/event/visite-a-perly-2-3/2024-01-10/
LOCATION:Union Maraîchère de Genève\, Perly\, route de Base 45\, Perly\, Suisse
CATEGORIES:Visites à Perly
ORGANIZER;CN="L%C3%A9gumes en ville":MAILTO:info@legumesenville.ch
END:VEVENT
BEGIN:VEVENT
DTSTART;TZID=Europe/Paris:20240111T090000
DTEND;TZID=Europe/Paris:20240111T113000
DTSTAMP:20260423T062233
CREATED:20231018T061136Z
LAST-MODIFIED:20231018T101252Z
UID:10005083-1704963600-1704972600@legumesenville.ch
SUMMARY:Visite à Perly - 1
DESCRIPTION:
URL:https://legumesenville.ch/event/visite-a-perly-2/2024-01-11/
LOCATION:Union Maraîchère de Genève\, Perly\, route de Base 45\, Perly\, Suisse
CATEGORIES:Visites à Perly
ORGANIZER;CN="L%C3%A9gumes en ville":MAILTO:info@legumesenville.ch
END:VEVENT
BEGIN:VEVENT
DTSTART;TZID=Europe/Paris:20240111T090000
DTEND;TZID=Europe/Paris:20240111T113000
DTSTAMP:20260423T062233
CREATED:20231018T094528Z
LAST-MODIFIED:20231018T101331Z
UID:10005172-1704963600-1704972600@legumesenville.ch
SUMMARY:Visite à Perly - 2
DESCRIPTION:
URL:https://legumesenville.ch/event/visite-a-perly-2-3/2024-01-11/
LOCATION:Union Maraîchère de Genève\, Perly\, route de Base 45\, Perly\, Suisse
CATEGORIES:Visites à Perly
ORGANIZER;CN="L%C3%A9gumes en ville":MAILTO:info@legumesenville.ch
END:VEVENT
BEGIN:VEVENT
DTSTART;TZID=Europe/Paris:20240112T090000
DTEND;TZID=Europe/Paris:20240112T113000
DTSTAMP:20260423T062233
CREATED:20231018T061136Z
LAST-MODIFIED:20231018T101252Z
UID:10005084-1705050000-1705059000@legumesenville.ch
SUMMARY:Visite à Perly - 1
DESCRIPTION:
URL:https://legumesenville.ch/event/visite-a-perly-2/2024-01-12/
LOCATION:Union Maraîchère de Genève\, Perly\, route de Base 45\, Perly\, Suisse
CATEGORIES:Visites à Perly
ORGANIZER;CN="L%C3%A9gumes en ville":MAILTO:info@legumesenville.ch
END:VEVENT
BEGIN:VEVENT
DTSTART;TZID=Europe/Paris:20240112T090000
DTEND;TZID=Europe/Paris:20240112T113000
DTSTAMP:20260423T062233
CREATED:20231018T094528Z
LAST-MODIFIED:20231018T101331Z
UID:10005173-1705050000-1705059000@legumesenville.ch
SUMMARY:Visite à Perly - 2
DESCRIPTION:
URL:https://legumesenville.ch/event/visite-a-perly-2-3/2024-01-12/
LOCATION:Union Maraîchère de Genève\, Perly\, route de Base 45\, Perly\, Suisse
CATEGORIES:Visites à Perly
ORGANIZER;CN="L%C3%A9gumes en ville":MAILTO:info@legumesenville.ch
END:VEVENT
BEGIN:VEVENT
DTSTART;TZID=Europe/Paris:20240115T090000
DTEND;TZID=Europe/Paris:20240115T113000
DTSTAMP:20260423T062233
CREATED:20231018T061136Z
LAST-MODIFIED:20231018T101252Z
UID:10005085-1705309200-1705318200@legumesenville.ch
SUMMARY:Visite à Perly - 1
DESCRIPTION:
URL:https://legumesenville.ch/event/visite-a-perly-2/2024-01-15/
LOCATION:Union Maraîchère de Genève\, Perly\, route de Base 45\, Perly\, Suisse
CATEGORIES:Visites à Perly
ORGANIZER;CN="L%C3%A9gumes en ville":MAILTO:info@legumesenville.ch
END:VEVENT
BEGIN:VEVENT
DTSTART;TZID=Europe/Paris:20240115T090000
DTEND;TZID=Europe/Paris:20240115T113000
DTSTAMP:20260423T062233
CREATED:20231018T094528Z
LAST-MODIFIED:20231018T101331Z
UID:10005174-1705309200-1705318200@legumesenville.ch
SUMMARY:Visite à Perly - 2
DESCRIPTION:
URL:https://legumesenville.ch/event/visite-a-perly-2-3/2024-01-15/
LOCATION:Union Maraîchère de Genève\, Perly\, route de Base 45\, Perly\, Suisse
CATEGORIES:Visites à Perly
ORGANIZER;CN="L%C3%A9gumes en ville":MAILTO:info@legumesenville.ch
END:VEVENT
BEGIN:VEVENT
DTSTART;TZID=Europe/Paris:20240116T090000
DTEND;TZID=Europe/Paris:20240116T113000
DTSTAMP:20260423T062233
CREATED:20231018T061136Z
LAST-MODIFIED:20231018T101252Z
UID:10005086-1705395600-1705404600@legumesenville.ch
SUMMARY:Visite à Perly - 1
DESCRIPTION:
URL:https://legumesenville.ch/event/visite-a-perly-2/2024-01-16/
LOCATION:Union Maraîchère de Genève\, Perly\, route de Base 45\, Perly\, Suisse
CATEGORIES:Visites à Perly
ORGANIZER;CN="L%C3%A9gumes en ville":MAILTO:info@legumesenville.ch
END:VEVENT
BEGIN:VEVENT
DTSTART;TZID=Europe/Paris:20240116T090000
DTEND;TZID=Europe/Paris:20240116T113000
DTSTAMP:20260423T062233
CREATED:20231018T094528Z
LAST-MODIFIED:20231018T101331Z
UID:10005175-1705395600-1705404600@legumesenville.ch
SUMMARY:Visite à Perly - 2
DESCRIPTION:
URL:https://legumesenville.ch/event/visite-a-perly-2-3/2024-01-16/
LOCATION:Union Maraîchère de Genève\, Perly\, route de Base 45\, Perly\, Suisse
CATEGORIES:Visites à Perly
ORGANIZER;CN="L%C3%A9gumes en ville":MAILTO:info@legumesenville.ch
END:VEVENT
BEGIN:VEVENT
DTSTART;TZID=Europe/Paris:20240117T090000
DTEND;TZID=Europe/Paris:20240117T113000
DTSTAMP:20260423T062233
CREATED:20231018T061136Z
LAST-MODIFIED:20231018T101252Z
UID:10005087-1705482000-1705491000@legumesenville.ch
SUMMARY:Visite à Perly - 1
DESCRIPTION:
URL:https://legumesenville.ch/event/visite-a-perly-2/2024-01-17/
LOCATION:Union Maraîchère de Genève\, Perly\, route de Base 45\, Perly\, Suisse
CATEGORIES:Visites à Perly
ORGANIZER;CN="L%C3%A9gumes en ville":MAILTO:info@legumesenville.ch
END:VEVENT
BEGIN:VEVENT
DTSTART;TZID=Europe/Paris:20240117T090000
DTEND;TZID=Europe/Paris:20240117T113000
DTSTAMP:20260423T062233
CREATED:20231018T094528Z
LAST-MODIFIED:20231018T101331Z
UID:10005176-1705482000-1705491000@legumesenville.ch
SUMMARY:Visite à Perly - 2
DESCRIPTION:
URL:https://legumesenville.ch/event/visite-a-perly-2-3/2024-01-17/
LOCATION:Union Maraîchère de Genève\, Perly\, route de Base 45\, Perly\, Suisse
CATEGORIES:Visites à Perly
ORGANIZER;CN="L%C3%A9gumes en ville":MAILTO:info@legumesenville.ch
END:VEVENT
BEGIN:VEVENT
DTSTART;TZID=Europe/Paris:20240118T090000
DTEND;TZID=Europe/Paris:20240118T113000
DTSTAMP:20260423T062233
CREATED:20231018T061136Z
LAST-MODIFIED:20231018T101252Z
UID:10005088-1705568400-1705577400@legumesenville.ch
SUMMARY:Visite à Perly - 1
DESCRIPTION:
URL:https://legumesenville.ch/event/visite-a-perly-2/2024-01-18/
LOCATION:Union Maraîchère de Genève\, Perly\, route de Base 45\, Perly\, Suisse
CATEGORIES:Visites à Perly
ORGANIZER;CN="L%C3%A9gumes en ville":MAILTO:info@legumesenville.ch
END:VEVENT
BEGIN:VEVENT
DTSTART;TZID=Europe/Paris:20240118T090000
DTEND;TZID=Europe/Paris:20240118T113000
DTSTAMP:20260423T062233
CREATED:20231018T094528Z
LAST-MODIFIED:20231018T101331Z
UID:10005177-1705568400-1705577400@legumesenville.ch
SUMMARY:Visite à Perly - 2
DESCRIPTION:
URL:https://legumesenville.ch/event/visite-a-perly-2-3/2024-01-18/
LOCATION:Union Maraîchère de Genève\, Perly\, route de Base 45\, Perly\, Suisse
CATEGORIES:Visites à Perly
ORGANIZER;CN="L%C3%A9gumes en ville":MAILTO:info@legumesenville.ch
END:VEVENT
BEGIN:VEVENT
DTSTART;TZID=Europe/Paris:20240119T090000
DTEND;TZID=Europe/Paris:20240119T113000
DTSTAMP:20260423T062233
CREATED:20231018T061136Z
LAST-MODIFIED:20231018T101252Z
UID:10005089-1705654800-1705663800@legumesenville.ch
SUMMARY:Visite à Perly - 1
DESCRIPTION:
URL:https://legumesenville.ch/event/visite-a-perly-2/2024-01-19/
LOCATION:Union Maraîchère de Genève\, Perly\, route de Base 45\, Perly\, Suisse
CATEGORIES:Visites à Perly
ORGANIZER;CN="L%C3%A9gumes en ville":MAILTO:info@legumesenville.ch
END:VEVENT
BEGIN:VEVENT
DTSTART;TZID=Europe/Paris:20240119T090000
DTEND;TZID=Europe/Paris:20240119T113000
DTSTAMP:20260423T062233
CREATED:20231018T094528Z
LAST-MODIFIED:20231018T101331Z
UID:10005178-1705654800-1705663800@legumesenville.ch
SUMMARY:Visite à Perly - 2
DESCRIPTION:
URL:https://legumesenville.ch/event/visite-a-perly-2-3/2024-01-19/
LOCATION:Union Maraîchère de Genève\, Perly\, route de Base 45\, Perly\, Suisse
CATEGORIES:Visites à Perly
ORGANIZER;CN="L%C3%A9gumes en ville":MAILTO:info@legumesenville.ch
END:VEVENT
BEGIN:VEVENT
DTSTART;TZID=Europe/Paris:20240122T090000
DTEND;TZID=Europe/Paris:20240122T113000
DTSTAMP:20260423T062233
CREATED:20231018T061136Z
LAST-MODIFIED:20231018T101252Z
UID:10005090-1705914000-1705923000@legumesenville.ch
SUMMARY:Visite à Perly - 1
DESCRIPTION:
URL:https://legumesenville.ch/event/visite-a-perly-2/2024-01-22/
LOCATION:Union Maraîchère de Genève\, Perly\, route de Base 45\, Perly\, Suisse
CATEGORIES:Visites à Perly
ORGANIZER;CN="L%C3%A9gumes en ville":MAILTO:info@legumesenville.ch
END:VEVENT
BEGIN:VEVENT
DTSTART;TZID=Europe/Paris:20240122T090000
DTEND;TZID=Europe/Paris:20240122T113000
DTSTAMP:20260423T062233
CREATED:20231018T094528Z
LAST-MODIFIED:20231018T101331Z
UID:10005179-1705914000-1705923000@legumesenville.ch
SUMMARY:Visite à Perly - 2
DESCRIPTION:
URL:https://legumesenville.ch/event/visite-a-perly-2-3/2024-01-22/
LOCATION:Union Maraîchère de Genève\, Perly\, route de Base 45\, Perly\, Suisse
CATEGORIES:Visites à Perly
ORGANIZER;CN="L%C3%A9gumes en ville":MAILTO:info@legumesenville.ch
END:VEVENT
BEGIN:VEVENT
DTSTART;TZID=Europe/Paris:20240123T090000
DTEND;TZID=Europe/Paris:20240123T113000
DTSTAMP:20260423T062233
CREATED:20231018T061136Z
LAST-MODIFIED:20231018T101252Z
UID:10005091-1706000400-1706009400@legumesenville.ch
SUMMARY:Visite à Perly - 1
DESCRIPTION:
URL:https://legumesenville.ch/event/visite-a-perly-2/2024-01-23/
LOCATION:Union Maraîchère de Genève\, Perly\, route de Base 45\, Perly\, Suisse
CATEGORIES:Visites à Perly
ORGANIZER;CN="L%C3%A9gumes en ville":MAILTO:info@legumesenville.ch
END:VEVENT
BEGIN:VEVENT
DTSTART;TZID=Europe/Paris:20240123T090000
DTEND;TZID=Europe/Paris:20240123T113000
DTSTAMP:20260423T062233
CREATED:20231018T094528Z
LAST-MODIFIED:20231018T101331Z
UID:10005180-1706000400-1706009400@legumesenville.ch
SUMMARY:Visite à Perly - 2
DESCRIPTION:
URL:https://legumesenville.ch/event/visite-a-perly-2-3/2024-01-23/
LOCATION:Union Maraîchère de Genève\, Perly\, route de Base 45\, Perly\, Suisse
CATEGORIES:Visites à Perly
ORGANIZER;CN="L%C3%A9gumes en ville":MAILTO:info@legumesenville.ch
END:VEVENT
BEGIN:VEVENT
DTSTART;TZID=Europe/Paris:20240124T090000
DTEND;TZID=Europe/Paris:20240124T113000
DTSTAMP:20260423T062233
CREATED:20231018T061136Z
LAST-MODIFIED:20231018T101252Z
UID:10005092-1706086800-1706095800@legumesenville.ch
SUMMARY:Visite à Perly - 1
DESCRIPTION:
URL:https://legumesenville.ch/event/visite-a-perly-2/2024-01-24/
LOCATION:Union Maraîchère de Genève\, Perly\, route de Base 45\, Perly\, Suisse
CATEGORIES:Visites à Perly
ORGANIZER;CN="L%C3%A9gumes en ville":MAILTO:info@legumesenville.ch
END:VEVENT
BEGIN:VEVENT
DTSTART;TZID=Europe/Paris:20240124T090000
DTEND;TZID=Europe/Paris:20240124T113000
DTSTAMP:20260423T062233
CREATED:20231018T094528Z
LAST-MODIFIED:20231018T101331Z
UID:10005181-1706086800-1706095800@legumesenville.ch
SUMMARY:Visite à Perly - 2
DESCRIPTION:
URL:https://legumesenville.ch/event/visite-a-perly-2-3/2024-01-24/
LOCATION:Union Maraîchère de Genève\, Perly\, route de Base 45\, Perly\, Suisse
CATEGORIES:Visites à Perly
ORGANIZER;CN="L%C3%A9gumes en ville":MAILTO:info@legumesenville.ch
END:VEVENT
BEGIN:VEVENT
DTSTART;TZID=Europe/Paris:20240125T090000
DTEND;TZID=Europe/Paris:20240125T113000
DTSTAMP:20260423T062233
CREATED:20231018T061136Z
LAST-MODIFIED:20231018T101252Z
UID:10005093-1706173200-1706182200@legumesenville.ch
SUMMARY:Visite à Perly - 1
DESCRIPTION:
URL:https://legumesenville.ch/event/visite-a-perly-2/2024-01-25/
LOCATION:Union Maraîchère de Genève\, Perly\, route de Base 45\, Perly\, Suisse
CATEGORIES:Visites à Perly
ORGANIZER;CN="L%C3%A9gumes en ville":MAILTO:info@legumesenville.ch
END:VEVENT
BEGIN:VEVENT
DTSTART;TZID=Europe/Paris:20240125T090000
DTEND;TZID=Europe/Paris:20240125T113000
DTSTAMP:20260423T062234
CREATED:20231018T094528Z
LAST-MODIFIED:20231018T101331Z
UID:10005182-1706173200-1706182200@legumesenville.ch
SUMMARY:Visite à Perly - 2
DESCRIPTION:
URL:https://legumesenville.ch/event/visite-a-perly-2-3/2024-01-25/
LOCATION:Union Maraîchère de Genève\, Perly\, route de Base 45\, Perly\, Suisse
CATEGORIES:Visites à Perly
ORGANIZER;CN="L%C3%A9gumes en ville":MAILTO:info@legumesenville.ch
END:VEVENT
BEGIN:VEVENT
DTSTART;TZID=Europe/Paris:20240126T090000
DTEND;TZID=Europe/Paris:20240126T113000
DTSTAMP:20260423T062234
CREATED:20231018T061136Z
LAST-MODIFIED:20231018T101252Z
UID:10005094-1706259600-1706268600@legumesenville.ch
SUMMARY:Visite à Perly - 1
DESCRIPTION:
URL:https://legumesenville.ch/event/visite-a-perly-2/2024-01-26/
LOCATION:Union Maraîchère de Genève\, Perly\, route de Base 45\, Perly\, Suisse
CATEGORIES:Visites à Perly
ORGANIZER;CN="L%C3%A9gumes en ville":MAILTO:info@legumesenville.ch
END:VEVENT
BEGIN:VEVENT
DTSTART;TZID=Europe/Paris:20240126T090000
DTEND;TZID=Europe/Paris:20240126T113000
DTSTAMP:20260423T062234
CREATED:20231018T094528Z
LAST-MODIFIED:20231018T101331Z
UID:10005183-1706259600-1706268600@legumesenville.ch
SUMMARY:Visite à Perly - 2
DESCRIPTION:
URL:https://legumesenville.ch/event/visite-a-perly-2-3/2024-01-26/
LOCATION:Union Maraîchère de Genève\, Perly\, route de Base 45\, Perly\, Suisse
CATEGORIES:Visites à Perly
ORGANIZER;CN="L%C3%A9gumes en ville":MAILTO:info@legumesenville.ch
END:VEVENT
END:VCALENDAR